BEGIN:VCALENDAR
VERSION:2.0
PRODID:-// eRoom plugin //NONSGML v1.0//EN
CALSCALE:GREGORIAN
BEGIN:VEVENT
UID:eRoom-1776777453
SUMMARY:COURS SURVEILLANCE SANITAIRE (CLASSIQUE)
LOCATION:
DESCRIPTIONCours de Surveillance Sanitaire - Option CLASSIQUE avec le Prof. OGA
URL;VALUE=URI:https://wordpress.org/plugins/eroom-zoom-meetings-webinar/
DTSTART:20240523T073000Z
DTEND:20240523T141000Z
DTSTAMP:20260421T131733Z
BEGIN:VALARM
ACTION:DISPLAY
RIGGER;RELATED=START:-PT00H15M00S
BEGIN:VALARM
END:VEVENT
END:VCALENDAR